Package: levi Version: 1.20.0 Command: /Library/Frameworks/R.framework/Resources/bin/R CMD build --keep-empty-dirs --no-resave-data levi StartedAt: 2024-04-16 20:47:50 -0400 (Tue, 16 Apr 2024) EndedAt: 2024-04-16 20:49:08 -0400 (Tue, 16 Apr 2024) EllapsedTime: 78.4 seconds RetCode: 0 Status: OK PackageFile: levi_1.20.0.tar.gz PackageFileSize: 2.782 MiB