Package: immunoClust Version: 1.34.0 Command: /Library/Frameworks/R.framework/Resources/bin/R CMD build --keep-empty-dirs --no-resave-data immunoClust StartedAt: 2024-04-16 20:19:00 -0400 (Tue, 16 Apr 2024) EndedAt: 2024-04-16 20:22:52 -0400 (Tue, 16 Apr 2024) EllapsedTime: 232.1 seconds RetCode: 0 Status: OK PackageFile: immunoClust_1.34.0.tar.gz PackageFileSize: 2.439 MiB