Package: hypeR Version: 2.0.0 Command: /Library/Frameworks/R.framework/Resources/bin/R CMD INSTALL hypeR StartedAt: 2024-04-16 12:37:03 -0400 (Tue, 16 Apr 2024) EndedAt: 2024-04-16 12:37:14 -0400 (Tue, 16 Apr 2024) EllapsedTime: 10.1 seconds RetCode: 0 Status: OK