Package: flowVS Version: 1.34.0 Command: rm -rf flowVS.buildbin-libdir && mkdir flowVS.buildbin-libdir && /Users/biocbuild/BBS/utils/build-universal.sh flowVS_1.34.0.tar.gz /Library/Frameworks/R.framework/Resources/bin/R flowVS.buildbin-libdir StartedAt: 2024-04-18 09:20:10 -0400 (Thu, 18 Apr 2024) EndedAt: 2024-04-18 09:20:36 -0400 (Thu, 18 Apr 2024) EllapsedTime: 25.7 seconds RetCode: 0 Status: OK PackageFile: flowVS_1.34.0.tgz PackageFileSize: 3.585 MiB