Package: erma Version: 1.18.0 Command: rm -rf erma.buildbin-libdir && mkdir erma.buildbin-libdir && /Users/biocbuild/BBS/utils/build-universal.sh erma_1.18.0.tar.gz /Library/Frameworks/R.framework/Resources/bin/R erma.buildbin-libdir StartedAt: 2024-04-18 09:13:08 -0400 (Thu, 18 Apr 2024) EndedAt: 2024-04-18 09:14:56 -0400 (Thu, 18 Apr 2024) EllapsedTime: 107.6 seconds RetCode: 0 Status: OK PackageFile: erma_1.18.0.tgz PackageFileSize: 198.5 MiB