Package: divergence Version: 1.18.0 Command: rm -rf divergence.buildbin-libdir && mkdir divergence.buildbin-libdir && /Users/biocbuild/BBS/utils/build-universal.sh divergence_1.18.0.tar.gz /Library/Frameworks/R.framework/Resources/bin/R divergence.buildbin-libdir StartedAt: 2024-04-18 09:03:04 -0400 (Thu, 18 Apr 2024) EndedAt: 2024-04-18 09:03:37 -0400 (Thu, 18 Apr 2024) EllapsedTime: 32.9 seconds RetCode: 0 Status: OK PackageFile: divergence_1.18.0.tgz PackageFileSize: 1.953 MiB