Package: crisprVerse Version: 1.4.0 Command: /Library/Frameworks/R.framework/Resources/bin/R CMD INSTALL crisprVerse StartedAt: 2024-04-16 13:04:49 -0400 (Tue, 16 Apr 2024) EndedAt: 2024-04-16 13:05:51 -0400 (Tue, 16 Apr 2024) EllapsedTime: 62.5 seconds RetCode: 0 Status: OK