Package: crisprVerse Version: 1.4.0 Command: /Library/Frameworks/R.framework/Resources/bin/R CMD check --install=check:crisprVerse.install-out.txt --library=/Library/Frameworks/R.framework/Resources/library --no-vignettes --timings crisprVerse_1.4.0.tar.gz StartedAt: 2024-04-17 10:29:05 -0400 (Wed, 17 Apr 2024) EndedAt: 2024-04-17 10:36:21 -0400 (Wed, 17 Apr 2024) EllapsedTime: 435.5 seconds RetCode: 0 Status: OK CheckDir: crisprVerse.Rcheck Warnings: 0