Package: crisprVerse Version: 1.4.0 Command: /Library/Frameworks/R.framework/Resources/bin/R CMD build --keep-empty-dirs --no-resave-data crisprVerse StartedAt: 2024-04-16 16:20:47 -0400 (Tue, 16 Apr 2024) EndedAt: 2024-04-16 16:22:15 -0400 (Tue, 16 Apr 2024) EllapsedTime: 88.0 seconds RetCode: 0 Status: OK PackageFile: crisprVerse_1.4.0.tar.gz PackageFileSize: 295.9 KiB