Package: covEB Version: 1.28.0 Command: /Library/Frameworks/R.framework/Resources/bin/R CMD check --install=check:covEB.install-out.txt --library=/Library/Frameworks/R.framework/Resources/library --no-vignettes --timings covEB_1.28.0.tar.gz StartedAt: 2024-04-17 10:17:50 -0400 (Wed, 17 Apr 2024) EndedAt: 2024-04-17 10:18:50 -0400 (Wed, 17 Apr 2024) EllapsedTime: 60.8 seconds RetCode: 0 Status: OK CheckDir: covEB.Rcheck Warnings: 0