Package: consensusOV Version: 1.24.0 Command: /Library/Frameworks/R.framework/Resources/bin/R CMD build --keep-empty-dirs --no-resave-data consensusOV StartedAt: 2024-04-16 16:03:15 -0400 (Tue, 16 Apr 2024) EndedAt: 2024-04-16 16:06:45 -0400 (Tue, 16 Apr 2024) EllapsedTime: 209.3 seconds RetCode: 0 Status: OK PackageFile: consensusOV_1.24.0.tar.gz PackageFileSize: 3.207 MiB