Package: consensusOV Version: 1.24.0 Command: rm -rf consensusOV.buildbin-libdir && mkdir consensusOV.buildbin-libdir && /Users/biocbuild/BBS/utils/build-universal.sh consensusOV_1.24.0.tar.gz /Library/Frameworks/R.framework/Resources/bin/R consensusOV.buildbin-libdir StartedAt: 2024-04-18 08:47:07 -0400 (Thu, 18 Apr 2024) EndedAt: 2024-04-18 08:48:38 -0400 (Thu, 18 Apr 2024) EllapsedTime: 91.1 seconds RetCode: 0 Status: OK PackageFile: consensusOV_1.24.0.tgz PackageFileSize: 4.524 MiB