Package: biodbLipidmaps Version: 1.8.0 Command: /Library/Frameworks/R.framework/Resources/bin/R CMD check --install=check:biodbLipidmaps.install-out.txt --library=/Library/Frameworks/R.framework/Resources/library --no-vignettes --timings biodbLipidmaps_1.8.0.tar.gz StartedAt: 2024-04-17 07:10:40 -0400 (Wed, 17 Apr 2024) EndedAt: 2024-04-17 07:13:15 -0400 (Wed, 17 Apr 2024) EllapsedTime: 155.5 seconds RetCode: 1 Status: ERROR CheckDir: biodbLipidmaps.Rcheck Warnings: NA