Package: bigmelon Version: 1.28.0 Command: /Library/Frameworks/R.framework/Resources/bin/R CMD INSTALL bigmelon StartedAt: 2024-04-16 12:42:14 -0400 (Tue, 16 Apr 2024) EndedAt: 2024-04-16 12:43:24 -0400 (Tue, 16 Apr 2024) EllapsedTime: 69.8 seconds RetCode: 0 Status: OK