Package: bigmelon Version: 1.28.0 Command: /Library/Frameworks/R.framework/Resources/bin/R CMD build --keep-empty-dirs --no-resave-data bigmelon StartedAt: 2024-04-16 14:08:59 -0400 (Tue, 16 Apr 2024) EndedAt: 2024-04-16 14:10:43 -0400 (Tue, 16 Apr 2024) EllapsedTime: 104.2 seconds RetCode: 0 Status: OK PackageFile: bigmelon_1.28.0.tar.gz PackageFileSize: 900.7 KiB