Package: baySeq Version: 2.36.2 Command: /Library/Frameworks/R.framework/Resources/bin/R CMD check --install=check:baySeq.install-out.txt --library=/Library/Frameworks/R.framework/Resources/library --no-vignettes --timings baySeq_2.36.2.tar.gz StartedAt: 2024-04-17 06:31:10 -0400 (Wed, 17 Apr 2024) EndedAt: 2024-04-17 06:34:26 -0400 (Wed, 17 Apr 2024) EllapsedTime: 196.4 seconds RetCode: 0 Status: OK CheckDir: baySeq.Rcheck Warnings: 0