Package: aroma.light Version: 3.32.0 Command: /Library/Frameworks/R.framework/Resources/bin/R CMD INSTALL aroma.light StartedAt: 2024-04-16 10:12:15 -0400 (Tue, 16 Apr 2024) EndedAt: 2024-04-16 10:12:20 -0400 (Tue, 16 Apr 2024) EllapsedTime: 5.1 seconds RetCode: 0 Status: OK