Package: aroma.light Version: 3.32.0 Command: /Library/Frameworks/R.framework/Resources/bin/R CMD check --install=check:aroma.light.install-out.txt --library=/Library/Frameworks/R.framework/Resources/library --no-vignettes --timings aroma.light_3.32.0.tar.gz StartedAt: 2024-04-17 05:47:52 -0400 (Wed, 17 Apr 2024) EndedAt: 2024-04-17 05:49:23 -0400 (Wed, 17 Apr 2024) EllapsedTime: 91.6 seconds RetCode: 0 Status: OK CheckDir: aroma.light.Rcheck Warnings: 0