Package: aroma.light Version: 3.32.0 Command: /Library/Frameworks/R.framework/Resources/bin/R CMD build --keep-empty-dirs --no-resave-data aroma.light StartedAt: 2024-04-16 13:30:31 -0400 (Tue, 16 Apr 2024) EndedAt: 2024-04-16 13:30:32 -0400 (Tue, 16 Apr 2024) EllapsedTime: 1.2 seconds RetCode: 0 Status: OK PackageFile: aroma.light_3.32.0.tar.gz PackageFileSize: 379.3 KiB