Package: amplican Version: 1.24.0 Command: rm -rf amplican.buildbin-libdir && mkdir amplican.buildbin-libdir && /Users/biocbuild/BBS/utils/build-universal.sh amplican_1.24.0.tar.gz /Library/Frameworks/R.framework/Resources/bin/R amplican.buildbin-libdir StartedAt: 2024-04-18 08:11:13 -0400 (Thu, 18 Apr 2024) EndedAt: 2024-04-18 08:11:53 -0400 (Thu, 18 Apr 2024) EllapsedTime: 40.5 seconds RetCode: 0 Status: OK PackageFile: amplican_1.24.0.tgz PackageFileSize: 9.646 MiB