Package: VDJdive Version: 1.4.0 Command: /Library/Frameworks/R.framework/Resources/bin/R CMD INSTALL VDJdive StartedAt: 2024-04-16 10:41:46 -0400 (Tue, 16 Apr 2024) EndedAt: 2024-04-16 10:42:17 -0400 (Tue, 16 Apr 2024) EllapsedTime: 31.2 seconds RetCode: 0 Status: OK