Package: TargetSearch Version: 2.4.2 Command: rm -rf TargetSearch.buildbin-libdir && mkdir TargetSearch.buildbin-libdir && /Users/biocbuild/BBS/utils/build-universal.sh TargetSearch_2.4.2.tar.gz /Library/Frameworks/R.framework/Resources/bin/R TargetSearch.buildbin-libdir StartedAt: 2024-04-15 10:44:45 -0400 (Mon, 15 Apr 2024) EndedAt: 2024-04-15 10:44:59 -0400 (Mon, 15 Apr 2024) EllapsedTime: 14.8 seconds RetCode: 0 Status: OK PackageFile: TargetSearch_2.4.2.tgz PackageFileSize: 1.201 MiB