Package: TPP Version: 3.30.0 Command: /Library/Frameworks/R.framework/Resources/bin/R CMD check --install=check:TPP.install-out.txt --library=/Library/Frameworks/R.framework/Resources/library --no-vignettes --timings TPP_3.30.0.tar.gz StartedAt: 2024-04-18 06:33:25 -0400 (Thu, 18 Apr 2024) EndedAt: 2024-04-18 06:40:29 -0400 (Thu, 18 Apr 2024) EllapsedTime: 424.1 seconds RetCode: 0 Status: OK CheckDir: TPP.Rcheck Warnings: 0