Package: TCGAutils Version: 1.22.2 Command: /Library/Frameworks/R.framework/Resources/bin/R CMD check --install=check:TCGAutils.install-out.txt --library=/Library/Frameworks/R.framework/Resources/library --no-vignettes --timings TCGAutils_1.22.2.tar.gz StartedAt: 2024-04-18 06:02:55 -0400 (Thu, 18 Apr 2024) EndedAt: 2024-04-18 06:11:57 -0400 (Thu, 18 Apr 2024) EllapsedTime: 541.9 seconds RetCode: 0 Status: OK CheckDir: TCGAutils.Rcheck Warnings: 0