Package: TCGAutils Version: 1.22.2 Command: /Library/Frameworks/R.framework/Resources/bin/R CMD build --keep-empty-dirs --no-resave-data TCGAutils StartedAt: 2024-04-17 03:56:12 -0400 (Wed, 17 Apr 2024) EndedAt: 2024-04-17 03:59:41 -0400 (Wed, 17 Apr 2024) EllapsedTime: 209.7 seconds RetCode: 0 Status: OK PackageFile: TCGAutils_1.22.2.tar.gz PackageFileSize: 398.3 KiB