Package: SingleR Version: 2.4.1 Command: /Library/Frameworks/R.framework/Resources/bin/R CMD INSTALL SingleR StartedAt: 2024-04-16 12:26:15 -0400 (Tue, 16 Apr 2024) EndedAt: 2024-04-16 12:27:32 -0400 (Tue, 16 Apr 2024) EllapsedTime: 77.1 seconds RetCode: 0 Status: OK