Package: RgnTX Version: 1.4.0 Command: /Library/Frameworks/R.framework/Resources/bin/R CMD check --install=check:RgnTX.install-out.txt --library=/Library/Frameworks/R.framework/Resources/library --no-vignettes --timings RgnTX_1.4.0.tar.gz StartedAt: 2024-04-18 01:07:12 -0400 (Thu, 18 Apr 2024) EndedAt: 2024-04-18 01:17:49 -0400 (Thu, 18 Apr 2024) EllapsedTime: 636.7 seconds RetCode: 0 Status: OK CheckDir: RgnTX.Rcheck Warnings: 0