Package: ReQON Version: 1.48.0 Command: /Library/Frameworks/R.framework/Resources/bin/R CMD INSTALL ReQON StartedAt: 2024-04-16 10:57:28 -0400 (Tue, 16 Apr 2024) EndedAt: 2024-04-16 10:57:29 -0400 (Tue, 16 Apr 2024) EllapsedTime: 1.1 seconds RetCode: 1 Status: ERROR