Package: Rbwa Version: 1.6.0 Command: rm -rf Rbwa.buildbin-libdir && mkdir Rbwa.buildbin-libdir && /Users/biocbuild/BBS/utils/build-universal.sh Rbwa_1.6.0.tar.gz /Library/Frameworks/R.framework/Resources/bin/R Rbwa.buildbin-libdir StartedAt: 2024-04-18 10:45:50 -0400 (Thu, 18 Apr 2024) EndedAt: 2024-04-18 10:46:13 -0400 (Thu, 18 Apr 2024) EllapsedTime: 23.8 seconds RetCode: 0 Status: OK PackageFile: Rbwa_1.6.0.tgz PackageFileSize: 633.1 KiB