Package: PhenoGeneRanker Version: 1.10.0 Command: /Library/Frameworks/R.framework/Resources/bin/R CMD INSTALL PhenoGeneRanker StartedAt: 2024-04-16 10:22:02 -0400 (Tue, 16 Apr 2024) EndedAt: 2024-04-16 10:22:11 -0400 (Tue, 16 Apr 2024) EllapsedTime: 9.2 seconds RetCode: 0 Status: OK