Package: PCAtools Version: 2.14.0 Command: /Library/Frameworks/R.framework/Resources/bin/R CMD build --keep-empty-dirs --no-resave-data PCAtools StartedAt: 2024-04-16 23:35:32 -0400 (Tue, 16 Apr 2024) EndedAt: 2024-04-16 23:39:21 -0400 (Tue, 16 Apr 2024) EllapsedTime: 229.9 seconds RetCode: 0 Status: OK PackageFile: PCAtools_2.14.0.tar.gz PackageFileSize: 11.08 MiB