Package: MinimumDistance Version: 1.46.0 Command: /Library/Frameworks/R.framework/Resources/bin/R CMD check --install=check:MinimumDistance.install-out.txt --library=/Library/Frameworks/R.framework/Resources/library --no-vignettes --timings MinimumDistance_1.46.0.tar.gz StartedAt: 2024-04-17 19:36:39 -0400 (Wed, 17 Apr 2024) EndedAt: 2024-04-17 19:43:04 -0400 (Wed, 17 Apr 2024) EllapsedTime: 385.4 seconds RetCode: 0 Status: WARNINGS CheckDir: MinimumDistance.Rcheck Warnings: 5