Package: KEGGlincs Version: 1.28.0 Command: rm -rf KEGGlincs.buildbin-libdir && mkdir KEGGlincs.buildbin-libdir && /Users/biocbuild/BBS/utils/build-universal.sh KEGGlincs_1.28.0.tar.gz /Library/Frameworks/R.framework/Resources/bin/R KEGGlincs.buildbin-libdir StartedAt: 2024-04-18 09:51:01 -0400 (Thu, 18 Apr 2024) EndedAt: 2024-04-18 09:51:30 -0400 (Thu, 18 Apr 2024) EllapsedTime: 29.7 seconds RetCode: 0 Status: OK PackageFile: KEGGlincs_1.28.0.tgz PackageFileSize: 2.28 MiB