Package: IsoCorrectoR Version: 1.20.0 Command: rm -rf IsoCorrectoR.buildbin-libdir && mkdir IsoCorrectoR.buildbin-libdir && /Users/biocbuild/BBS/utils/build-universal.sh IsoCorrectoR_1.20.0.tar.gz /Library/Frameworks/R.framework/Resources/bin/R IsoCorrectoR.buildbin-libdir StartedAt: 2024-04-18 09:49:31 -0400 (Thu, 18 Apr 2024) EndedAt: 2024-04-18 09:49:44 -0400 (Thu, 18 Apr 2024) EllapsedTime: 12.6 seconds RetCode: 0 Status: OK PackageFile: IsoCorrectoR_1.20.0.tgz PackageFileSize: 1.746 MiB