Package: GENIE3 Version: 1.24.0 Command: /Library/Frameworks/R.framework/Resources/bin/R CMD build --keep-empty-dirs --no-resave-data GENIE3 StartedAt: 2024-04-16 18:45:14 -0400 (Tue, 16 Apr 2024) EndedAt: 2024-04-16 18:45:23 -0400 (Tue, 16 Apr 2024) EllapsedTime: 9.1 seconds RetCode: 0 Status: OK PackageFile: GENIE3_1.24.0.tar.gz PackageFileSize: 241.4 KiB