Package: GENIE3 Version: 1.24.0 Command: rm -rf GENIE3.buildbin-libdir && mkdir GENIE3.buildbin-libdir && /Users/biocbuild/BBS/utils/build-universal.sh GENIE3_1.24.0.tar.gz /Library/Frameworks/R.framework/Resources/bin/R GENIE3.buildbin-libdir StartedAt: 2024-04-18 09:25:53 -0400 (Thu, 18 Apr 2024) EndedAt: 2024-04-18 09:26:02 -0400 (Thu, 18 Apr 2024) EllapsedTime: 9.0 seconds RetCode: 0 Status: OK PackageFile: GENIE3_1.24.0.tgz PackageFileSize: 263.2 KiB