Package: GAprediction Version: 1.28.0 Command: rm -rf GAprediction.buildbin-libdir && mkdir GAprediction.buildbin-libdir && /Users/biocbuild/BBS/utils/build-universal.sh GAprediction_1.28.0.tar.gz /Library/Frameworks/R.framework/Resources/bin/R GAprediction.buildbin-libdir StartedAt: 2024-04-18 09:22:22 -0400 (Thu, 18 Apr 2024) EndedAt: 2024-04-18 09:22:41 -0400 (Thu, 18 Apr 2024) EllapsedTime: 19.0 seconds RetCode: 0 Status: OK PackageFile: GAprediction_1.28.0.tgz PackageFileSize: 884.6 KiB