Package: Doscheda Version: 1.24.0 Command: /Library/Frameworks/R.framework/Resources/bin/R CMD INSTALL Doscheda StartedAt: 2024-04-16 12:20:40 -0400 (Tue, 16 Apr 2024) EndedAt: 2024-04-16 12:20:58 -0400 (Tue, 16 Apr 2024) EllapsedTime: 18.1 seconds RetCode: 0 Status: OK