Package: Dino Version: 1.8.0 Command: rm -rf Dino.buildbin-libdir && mkdir Dino.buildbin-libdir && /Users/biocbuild/BBS/utils/build-universal.sh Dino_1.8.0.tar.gz /Library/Frameworks/R.framework/Resources/bin/R Dino.buildbin-libdir StartedAt: 2024-03-07 08:25:57 -0500 (Thu, 07 Mar 2024) EndedAt: 2024-03-07 08:26:55 -0500 (Thu, 07 Mar 2024) EllapsedTime: 58.0 seconds RetCode: 0 Status: OK PackageFile: Dino_1.8.0.tgz PackageFileSize: 1.447 MiB