Package: DECIPHER Version: 2.30.0 Command: /Library/Frameworks/R.framework/Resources/bin/R CMD INSTALL DECIPHER StartedAt: 2024-04-16 10:35:37 -0400 (Tue, 16 Apr 2024) EndedAt: 2024-04-16 10:36:37 -0400 (Tue, 16 Apr 2024) EllapsedTime: 60.5 seconds RetCode: 0 Status: OK