Package: ClusterSignificance Version: 1.30.0 Command: /Library/Frameworks/R.framework/Resources/bin/R CMD check --install=check:ClusterSignificance.install-out.txt --library=/Library/Frameworks/R.framework/Resources/library --no-vignettes --timings ClusterSignificance_1.30.0.tar.gz StartedAt: 2024-04-17 09:23:32 -0400 (Wed, 17 Apr 2024) EndedAt: 2024-04-17 09:24:22 -0400 (Wed, 17 Apr 2024) EllapsedTime: 49.3 seconds RetCode: 0 Status: OK CheckDir: ClusterSignificance.Rcheck Warnings: 0