Package: CORREP Version: 1.68.0 Command: /Library/Frameworks/R.framework/Resources/bin/R CMD check --install=check:CORREP.install-out.txt --library=/Library/Frameworks/R.framework/Resources/library --no-vignettes --timings CORREP_1.68.0.tar.gz StartedAt: 2024-04-17 10:12:40 -0400 (Wed, 17 Apr 2024) EndedAt: 2024-04-17 10:13:14 -0400 (Wed, 17 Apr 2024) EllapsedTime: 34.5 seconds RetCode: 0 Status: OK CheckDir: CORREP.Rcheck Warnings: 0