Package: COCOA Version: 2.16.0 Command: rm -rf COCOA.buildbin-libdir && mkdir COCOA.buildbin-libdir && /Users/biocbuild/BBS/utils/build-universal.sh COCOA_2.16.0.tar.gz /Library/Frameworks/R.framework/Resources/bin/R COCOA.buildbin-libdir StartedAt: 2024-04-18 08:44:23 -0400 (Thu, 18 Apr 2024) EndedAt: 2024-04-18 08:45:29 -0400 (Thu, 18 Apr 2024) EllapsedTime: 66.1 seconds RetCode: 0 Status: OK PackageFile: COCOA_2.16.0.tgz PackageFileSize: 3.55 MiB