Package: AnVILBilling Version: 1.12.0 Command: rm -rf AnVILBilling.buildbin-libdir && mkdir AnVILBilling.buildbin-libdir && /Users/biocbuild/BBS/utils/build-universal.sh AnVILBilling_1.12.0.tar.gz /Library/Frameworks/R.framework/Resources/bin/R AnVILBilling.buildbin-libdir StartedAt: 2024-04-18 08:12:49 -0400 (Thu, 18 Apr 2024) EndedAt: 2024-04-18 08:13:03 -0400 (Thu, 18 Apr 2024) EllapsedTime: 13.5 seconds RetCode: 0 Status: OK PackageFile: AnVILBilling_1.12.0.tgz PackageFileSize: 734.7 KiB