Package: AnVIL Version: 1.14.3 Command: /Library/Frameworks/R.framework/Resources/bin/R CMD check --install=check:AnVIL.install-out.txt --library=/Library/Frameworks/R.framework/Resources/library --no-vignettes --timings AnVIL_1.14.3.tar.gz StartedAt: 2024-04-17 05:41:41 -0400 (Wed, 17 Apr 2024) EndedAt: 2024-04-17 05:42:35 -0400 (Wed, 17 Apr 2024) EllapsedTime: 54.3 seconds RetCode: 0 Status: OK CheckDir: AnVIL.Rcheck Warnings: 0