Package: AnVIL Version: 1.14.3 Command: rm -rf AnVIL.buildbin-libdir && mkdir AnVIL.buildbin-libdir && /Users/biocbuild/BBS/utils/build-universal.sh AnVIL_1.14.3.tar.gz /Library/Frameworks/R.framework/Resources/bin/R AnVIL.buildbin-libdir StartedAt: 2024-04-18 08:12:45 -0400 (Thu, 18 Apr 2024) EndedAt: 2024-04-18 08:12:56 -0400 (Thu, 18 Apr 2024) EllapsedTime: 11.1 seconds RetCode: 0 Status: OK PackageFile: AnVIL_1.14.3.tgz PackageFileSize: 1.139 MiB