Package: ASSIGN Version: 1.38.0 Command: /Library/Frameworks/R.framework/Resources/bin/R CMD check --install=check:ASSIGN.install-out.txt --library=/Library/Frameworks/R.framework/Resources/library --no-vignettes --timings ASSIGN_1.38.0.tar.gz StartedAt: 2024-04-17 05:56:12 -0400 (Wed, 17 Apr 2024) EndedAt: 2024-04-17 05:57:00 -0400 (Wed, 17 Apr 2024) EllapsedTime: 48.1 seconds RetCode: 0 Status: OK CheckDir: ASSIGN.Rcheck Warnings: 0