Package: vtpnet Version: 0.42.0 Command: rm -rf vtpnet.buildbin-libdir && mkdir vtpnet.buildbin-libdir && /Users/biocbuild/BBS/utils/build-universal.sh vtpnet_0.42.0.tar.gz /Library/Frameworks/R.framework/Resources/bin/R vtpnet.buildbin-libdir StartedAt: 2024-04-16 12:56:35 -0400 (Tue, 16 Apr 2024) EndedAt: 2024-04-16 12:58:06 -0400 (Tue, 16 Apr 2024) EllapsedTime: 91.1 seconds RetCode: 0 Status: OK PackageFile: vtpnet_0.42.0.tgz PackageFileSize: 20.24 MiB