Package: vissE Version: 1.10.0 Command: /Library/Frameworks/R.framework/Resources/bin/R CMD INSTALL vissE StartedAt: 2024-03-03 15:45:51 -0500 (Sun, 03 Mar 2024) EndedAt: 2024-03-03 15:45:59 -0500 (Sun, 03 Mar 2024) EllapsedTime: 7.7 seconds RetCode: 0 Status: OK