Package: uSORT Version: 1.28.0 Command: /Library/Frameworks/R.framework/Resources/bin/R CMD build --keep-empty-dirs --no-resave-data uSORT StartedAt: 2024-03-03 18:40:09 -0500 (Sun, 03 Mar 2024) EndedAt: 2024-03-03 18:40:37 -0500 (Sun, 03 Mar 2024) EllapsedTime: 28.1 seconds RetCode: 0 Status: OK PackageFile: uSORT_1.28.0.tar.gz PackageFileSize: 2.814 MiB